Workbook
Name _ftn1: Auswertung!$A$3
Name _ftn1: Significance!#REF!
Name _ftn1: Signifikanz!#REF!
Name _ftnref1: Auswertung!#REF!
Name _ftnref1: Significance!$A$3
Name _ftnref1: Signifikanz!#REF!
Name Daten: #REF!
Name Daten: #REF!
Name Daten: #REF!
Name Daten: #REF!
Name Elemente: [1]Parameter2!$B$3:$B$18
Name MBlei: #REF!
Name MBlei: #REF!
Name MBlei: #REF!
Name MBlei: #REF!
Name OLE_LINK1: Ausfüllhinweise!$A$20
Name OLE_LINK1: Reporting!$A$14
Name OLE_LINK2: Reporting!$J$7
Name Parameter2: #REF!
Name Parameter2: #REF!
Name Parameter2: #REF!
Name Parameter2: #REF!
Name Parameter2alt: #REF!
Name Parameter2alt: #REF!
Name Parameter2alt: #REF!
Name Parameter2alt: #REF!
Name test: [2]Parameter2!$B$3:$B$18
Name test: [3]Parameter2!$B$3:$B$18
Name test: [4]Parameter2!$B$3:$B$18
Name test: [5]Parameter2!$B$3:$B$18
Name test: [6]Parameter2!$B$3:$B$18
Name test: [7]Parameter2!$B$3:$B$18
Name test: [1]Parameter2!$B$3:$B$18
Name test: [8]Parameter2!$B$3:$B$18
Name test1: [9]Parameter2!$B$3:$B$18
Name test1: [9]Parameter2!$B$3:$B$18
Name test1: [10]Parameter2!$B$3:$B$18

Sheet Significance
A1: References to the result transmission and to the indication of result (Deadline see "Ergebnisse")
A2: Before analysing the samples, homogenize the samples again, please. After homogenisation You should analyse both samples with your standard procedures.
A3: Use this file for your result transmissions, please. Fill for this in the file yellow fields deposited out and send back the file afterwards by email to “ergebnisse@lvus.de”. It is important that for the clear allocation of the results to your laboratory in the table "Ergebnisse" (results) your client number and your postal zip code must be entered (both numbers only).
A4: The result data must be given in in the units as described at every parameter. To the avoidance of deviations in the laboratory made roundness, You are asked with each parameter after the first number deviating from 0 to indicate still the listened further numbers (even if due to Your validating data this accuracy is not kept by your analysis procedure). ISO 13 528 4.6 recommends that individual measurement results schould not be rounded by more than sr/2.
A6: Examples for transmissions of results:
A7: It a test material the element "Mg" was quantified. You are asked to report 3 significant numbers. The following computational contents are determined:
A9: Computed Value [mg/kg] | B9: Transmission of result [mg/kg]
A10: 1379 | B10: 1380
A11: 179.34 | B11: 179
A12: 80.12 | B12: 80.1
A13: 7.8 | B13: 7.8

Sheet Reporting

Sheet Auswertung
A1: Hinweise zur Auswertung
A2: Die Beurteilung der Laborergebnisse erfolgt durch Z-Scores, die möglichst über die Vergleichsstandardabweichung des jeweiligen Standardverfahrens aus einem Normververfahren berechnet werden. Zusätzlich werden für den jeweiligen Analyten Z-Scores über die nach der Horwitz- funktion ermittelte Zielstandardabweichung sowie über die robusten Standardabweichungen nach Algorithmus A berechnet.
A3: Mit abnehmenden Gehalten von Analyten in der Probe steigt die über die Horwitzfunktion berechnete Zielstandardabweichung stark an. So beträgt z.B. die relative Standardabweichung nach Horwitz 10 % bei einem Analytgehalt von 23 mg/kg und bereits 22,6 % bei einem Analytgehalt von 100 µg/kg.
A4: Zur Vermeidung zu „breiter“ Beurteilungszonen wird deshalb bei der Auswertung bei allen Parametern der Wert der Zielstandardabweichung auf maximal 22 % vom Wert des Medians beschränkt.
A5: Zunächst werden alle mitgeteilten Laborergebnisse berücksichtigt und die darüber berechneten statistischen Kenndaten für die Parameter aufgeführt.
A6: Zur Ermittlung der endgültigen statistischen Kenndaten werden bei allen in den Proben enthaltenen Wirkstoffe Zweitberechnungen durchgeführt. Bei diesen Zweitberechnungen bleiben generell die Ergebnisdaten von allen Laboratorien unberücksichtigt, deren Ergebnisse um mehr als 5 Zielstandardabweichungen (5 Z-Scores) vom Median des Analyten abweichen.
A7: Darüber hinaus bleiben bei allen Parametern zusätzlich alle Ergebnisse unberücksichtigt, die um mehr als 50 % vom Median abweichen und bei denen gleichzeitig der Betrag des Z-Score größer als 3 ist. Diese Regelung greift bei allen Parametern mit Analytgehalten unter 23 mg/kg.

Sheet Datenübernahme
A1: Erläuterungen zur Weiterverarbeitung Ihrer Daten
A2: Diese Tabellen wurden so aufgebaut, dass die Daten automatisiert in unser Auswerteprogramm übernommen werden können. Die Tabellen dürfen daher keinesfalls im Aufbau verändert werden, da dann ein automatisiertes Auslesen der mitgeteilten Daten nicht mehr möglich wäre.
A3: Aus diesem Grund wurden die Tabellen gegen Veränderungen geschützt. Eingaben oder auch die Auswahl von Eigenschaften sind nur an wenigen Stellen nötig. Diese Stellen sind gelb hinterlegt.
A4: Da das Ausführen von Macros eine potentielle Gefährdung von Computersystemen bedeuten kann, gehen wir davon aus, dass ausführbare Macros in zahlreichen Fällen von den entsprechenden System-Administratoren unterdrückt werden. Deshalb wurde auf die Verwendung von Macros bei der Erstellung der Tabellen zur Ergebniserfassung komplett verzichtet, obwohl damit ein komfortableres Arbeiten möglich wäre.
A5: Beim Eingang Ihrer eMail wird diese von unserem System automatisch weiterverarbeitet, wobei einige Plausibilitäten (z.B. Vollständigkeit der Absenderangabe oder Kennzeichnung als Update bei erneuter Dateneinsendung) überprüft werden. Im Anschluss an diese Prüfung erhalten Sie automatisiert eine eMail-Antwort. Darin werden Sie darüber informiert, ob Ihre Daten prinzipiell weiterverarbeitet werden können oder ob benötigte Einträge fehlen und Sie Ihre Ergebnisse nach Ergänzung der fehlenden Angaben erneut einsenden sollen. Eine Prüfung auf Vollständigkeit von Ergebnisangaben (sind überhaupt Ergebnnisdaten vorhanden?) oder deren Angabe in den vorgegebenen Maßeinheiten wird zu diesem Zeitpunkt nicht vorgenommen.
A6: Sollten Sie noch vor dem Ende der Ergebnisannahme bemerken, dass in Ihrer Ergebnistabelle Fehler enthalten sind, so senden Sie einfach eine korrigierte Version an die Adresse ergebnisse@lvus.de. Kennzeichnen Sie in diesem Fall Ihre Tabelle als Aktualisierung, da ansonsten das System die Annahme der Daten zurückweist ("es sind ja bereits Daten von Ihnen vorhanden"). Ihre aktualiserte Ergebnistabelle muss vollständig ausgefüllt sein und insbesondere alle Ergebnisdaten der Vorversion enthalten, da bei einer Kennzeichung als Aktualiserung (Update) die zuvor eingesandte Ergebnistabelle durch die Aktualisierung vollständig ersetzt wird.
A7: Ihre Daten werden wie mitgeteilt zur Auswertung verwendet. Selbst offensichtliche Fehler, wie - Tippfehler, - Übertragungsfehler in die Ergebniserfassungstabelle, - Angaben in einer anderen, von der Vorgabe abweichenden Maßeinheit werden zur Auswertung unverändert, also ohne Änderung übernommen und führen dann zu schlechten Bewertungen. Daher sollten Sie Ihre Eingaben sorgfältig durchführen und dabei insbesondere auch überprüfen, ob Ihre laborüblichen Maßeinheiten mit denen im Tabellenblatt übereinstimmen.
A8: Nach Ende der Frist zur Ergebnisabgabe sind Korrekturen nur noch möglich, falls die Auswertung der Daten noch nicht erfolgt ist. Korrekturen von fehlerhaften Teilnehmerangaben werden nach der Auswertung und insbesondere nach Veröffentlichung des Protokolls nicht mehr durchgeführt.

Sheet Signifikanz
A1: Hinweise zur Signifikanz von Ergebnisangaben
A2: Die Ergebnisangaben müssen in der/den vorgegebenen Maßeinheiten erfolgen - Ihre Angaben werden ohne Änderungen zur Auswertung verwendet! Zur Vermeidung von Abweichungen durch bereits im Labor vorgenommene Rundungen werden Sie gebeten, bei jedem Parameter eine bestimmte Anzahl signifikanter Ziffern anzugeben (auch wenn auf Grund Ihrer Validierungsdaten diese Genauigkeit von Ihrem Analysenverfahren nicht eingehalten wird).
A3: Generell gilt: nach ISO 13528 Abschnitt 4.6 sollen Ergebnisse nicht stärker gerundet werden als dem halben Betrag der Wiederholstandardabweichung entspricht.
A4: Beispiele zur Ergebnisangabe: In einer Probe wurde der Gehalt von Mangan bestimmt. Es wurden die aufgeführten rechnerischen Gehalte ermittelt und die Ergebnisangabe soll mit 3 signifikanten Ziffern erfolgen:
A5: Beispielhafter Wert [mg/kg] | B5: Ergebnisangabe mit 3 signifikanten Ziffern [mg/kg]
A6: 1379 | B6: 1380
A7: 179.34 | B7: 179
A8: 80.12 | B8: 80.1
A9: 7.8 | B9: 7.8
A11: 0.07832 | B11: 0.0783

Sheet Ausfüllhinweise
A1: Hinweise zum Erfassen und Einsenden der Untersuchungsergebnisse
A2: Zur Bestimmung der Parameter sollen zwei vollständig getrennte Analysengänge durch¬geführt werden. Verwenden Sie für die Analysengänge 1 und 2 Probenmaterial aus verschiedenen Probeneinheiten.
A3: Benutzen Sie für die Ergebnisübermittlung diese vordefinierte Tabelle im Excelformat. Die Tabelle steht auch auf unserer Homepage (www.lvus.de) im Bereich „Download“ bereit.
A4: Geben Sie im Register "Kontakt" den Namen, die eMail-Adresse sowie die Telefonnummer der Kontaktperson an, die wir bei Fragen kontaktieren können. Nach Fertigstellung des Protokolls wird ausschließlich an die dort angegebenen eMail-Adressen ein Passwort-freies Protokoll im PDF-Format gesendet. An diese Adressen senden wir auch ein Teilnahmezertifikat. Daher wäre zu Sicherstellung des Empfangs von Protokoll und Zertifikat die zusätzliche Angabe einer Funktions-e-Mail-Adresse empfohlen.
A5: Tragen Sie im Register „Ergebnisse“ unbedingt Ihre Kundennummer und Ihre Postleitzahl ein, da darüber die Identifizierung des Einsenders erfolgt. In die beiden Datenfelder „Kundennummer“ und „Postleitzahl“ dürfen nur Ziffern eingegeben werden.
A6: Die Felder zur Eingabe Ihrer Ergebnisdaten sind nicht mit einer festen Nachkommazahl vordefiniert, um keine Hinweise auf eventuelle Gehalte von Parametern zu geben.
A7: Beachten Sie die Hinweise zu den gültigen (signifikanten) Ziffern bei den Parametern. Die Anzahl der Ziffern ist so zu wählen, dass beide Ergebnisse nur im Ausnahmefall aus iden¬tischen Ziffernfolgen bestehen. In einigen Fällen, z.B. bei Gehalten um 10 %, ist die Vorgabe gültiger Stellen schwierig: Die Ergebnisse „10,16% und 9,94% sind vergleichbar, nicht aber „10,2%“ und „9,94%“. Die Angabe einer zusätzlichen gültigen Stelle ist hier angebracht.
A8: Über Auswahlfelder sind gängige Untersuchungsverfahren bereits vordefiniert, um das Ausfüllen bei den Untersuchungsverfahren zu erleichtern. Sollten Sie ein nicht aufgeführtes Verfahren anwenden, wählen Sie „sonstiges“ aus und tragen Ihr Verfahren dann ein. Sofern weitere Informationen zur Auswertung nötig sind, werden auch gängige Verfahrensprinzipien und/oder Bezugsquellen kommerziell vertriebener Testsätze in ähnlicher Weise vordefiniert.
A9: In zahlreichen Fällen wird auch nachgefragt, ob Sie streng nach einem Normverfahren arbeiten. Streng bedeutet, dass Sie ohne prüfrelevante Abweichungen arbeiten. Sollte die Abweichung lediglich die untersuchte Matrix sein (z.B. Fisch anstelle von Brühwurst), dann soll dies nicht als Modifikation gekennzeichnet werden.
A10: Da Ihre eMail automatisch weiterverarbeitet wird, dürfen nur innerhalb der Exceltabelle in vordefinierten Bereichen Kommentare oder Hinweise zu den Proben und durchgeführten Untersuchungen enthalten sein (z.B. im Register „Mitteilungen“).
A11: Senden Sie uns die vollständig ausgefüllte Ergebnisdatei als Anlage im Excelformat per eMail an die Adresse „ergebnisse@lvus.de“. Ihre eMail darf nur eine einzige Anlage enthalten. Ansonsten kann das Mail nicht verarbeitet werden. Sofern Ihre internen Datenschutzrichtlinien keinen Versand von Daten im xls(x)-Format erlauben, speichern Sie die versandfertige Tabelle und ändern die Dateiendung von ".xls" bzw. ".xlsx" in ".txt". Senden Sie daraufhin die Datei an edv@lvus.de. Ihre Ergebnisse werden von uns der weiteren Bearbeitung zugeführt.
A12: Nach dem Eingang in unserer Mailbox "ergebnisse@lvus.de" erhalten Sie automatisch eine Benachrichtigung/Bestätigung über den Eingang Ihrer eMail.
... A15: Senden Sie elektronisch mitgeteilte Ergebnisse nicht noch zusätzlich per Post oder Telefax.

Sheet Kurzanleitung
A51: Eine bebilderte Anleitung zum Ausfüllen der Ergebniserfassungstabelle finden Sie unter
A52: dem nachfolgenden Link:
A53: https://lvus.de/html/pdf/aprotec.php?file=anleitung.pdf

Sheet Kontakt
A1: Kontaktperson | C1: Contact person
A2: Name | C2: Name
A3: eMail | C3: eMail-Address
A4: Telefon (inklusive Vorwahl): | C4: telefone (including country and area code)
A6: Bitte geben Sie den Namen, eMail-Adresse und die Telefonnummer der Person an, die wir bei Rückfragen kontaktieren können. An die aufgeführte(n) eMailadresse(n) wird das Protokoll als Passwort-freie PDF-Datei und später auch das Teilnahmezertifikat gesendet. Gedruckte Auswertungen/Zertifikate werden nicht mehr versendet. Geben Sie zur Sicherheit Ihre eMailadresse unten bei eMail-Kontrolle ein. Unser Ergebnisserver akzeptiert Ihre Ergebnisdatei nur, wenn beide eMailadressen übereinstimmen.
A8: Please enter the name, email address and telephone number of the person we can contact in case of queries. The protocol will be sent to the listed email address(es) as a password-free PDF file. Printed reports will no longer be sent. For security reasons, please enter your e-mail address below under e-mail control. Our result server will only accept your result table if the email addresses in both cells match.
A10: Es wird empfohlen, eine zweite eMail-Adresse in Form eines Funktionspostfaches anzugeben. Dadurch wird sichergestellt, dass die Auswertung auch zugestellt werden kann. Geben Sie hierzu die zweite Adresse getrennt durch ein Semikolon mit nachfolgendem Leerzeichen ein.
A11: Senden Sie uns die vollständig ausgefüllte Ergebnisdatei als Anlage im Excelformat per eMail an die Adresse „ergebnisse@lvus.de“. Ihre eMail darf nur eine einzige Anlage enthalten. Ansonsten kann das Mail nicht verarbeitet werden. Sofern Ihre internen Datenschutzrichtlinien keinen Versand von Daten im xls(x)-Format erlauben, speichern Sie die versandfertige Tabelle und ändern die Dateiendung von ".xls" bzw. ".xlsx" in ".txt". Senden Sie daraufhin die Datei an edv@lvus.de. Ihre Ergebnisse werden von uns der weiteren Bearbeitung zugeführt.
A12: Beispiel für die Eingabe von 2 eMail-Adressen: Example how to type in 2 different e-mail addresses: | C12: info@lvus.de; ergebnisse@lvus.de
A15: eMail-Kontrolle: | C15: check of the e-Mail address
A16: Ergebnis der Überprüfung: | B16: =IF(ISBLANK(B15),"",IF(B3=B15,"Kontrolle erfolgreich - check ok","FEHLER - ERROR")) | C16: result of the control
B17: =IF(ISBLANK(B15),"",IF(ISERROR(FIND("@",B15,1)),"keine gültige eMail-Adresse",IF((VALUE(FIND("@",B15,1))>1),"","keine gültige eMail-Adresse!")))
B18: =IF(ISBLANK(B15),"",IF(ISERROR(FIND("@",B15,1)),"no valid eMail-adress",IF((VALUE(FIND("@",B15,1))>1),"","no valid eMail-address!")))
B19: =IF(ISBLANK(B15),"",IF(ISERROR(FIND("; ",B15,1)),"",IF((VALUE(FIND("; ",B15,1))>8),"","Achtung - die zweite eMail-Adresse wurde nicht korrekt eingegeben")))

Sheet Teilnehmerdaten
A1: Kundennummer | B1: =IF(ISNUMBER(VALUE(Ergebnisse!G1)),IF(VALUE(Ergebnisse!G1)>0,VALUE(Ergebnisse!G1),""),"") | D1: Umformung
A2: Postleitzahl | B2: =IF(ISNUMBER(VALUE(Ergebnisse!G2)),IF(VALUE(Ergebnisse!G2)>0,VALUE(Ergebnisse!G2),""),"")
A3: Produkt | B3: 01f | D3: Auswahl
A4: Jahrgang | B4: =YEAR(Ergebnisse!E5) -> 2026 | D4: 2
A5: Update | B5: =D8 -> N | D5: =IF(D4=2,"N","J") -> N | F5: 1 | G5: ja / yes
A6: Teilnahmen | B6: =Ergebnisse!G3 -> 1 | F6: 2 | G6: nein / no
A7: Deadline | B7: =Ergebnisse!E5 -> 46334
A8: Parameterzahl | B8: 17 | D8: =LEFT(D5,1) -> N
A9: Bestimmungen je Parameter | B9: 2
A10: Kontaktname | B10: =Kontakt!B2 -> 0
A11: Mailadresse | B11: =IF(Kontakt!B3=Kontakt!B15,Kontakt!B3,0) -> 0
A12: Zertifikat geeignet | B12: 1
A13: Parameter 1 | B13: =Ergebnisse!A19 -> Wasser | C13: =Ergebnisse!B19 -> g/100 g
A14: Parameter 2 | B14: =Ergebnisse!A20 -> Fett | C14: =Ergebnisse!B20 -> g/100 g
A15: Parameter 3 | B15: =Ergebnisse!A21 -> gesättigte Fettsäuren | C15: =Ergebnisse!B21 -> g/100 g Fett
A16: Parameter 4 | B16: =Ergebnisse!A22 -> Einfach ungesättigte Fettsäuren | C16: =Ergebnisse!B22 -> g/100 g Fett
A17: Parameter 5 | B17: =Ergebnisse!A23 -> Mehrfach ungesättige Fettsäuren | C17: =Ergebnisse!B23 -> g/100 g Fett
A18: Parameter 6 | B18: =Ergebnisse!A24 -> Eiweiß (N * 6,25) | C18: =Ergebnisse!B24 -> g/100 g
A19: Parameter 7 | B19: =Ergebnisse!A25 -> Kohlenhydrate, gesamt | C19: =Ergebnisse!B25 -> g/100 g
A20: Parameter 8 | B20: =Ergebnisse!A26 -> Zucker, gesamt | C20: =Ergebnisse!B26 -> g/100 g
A21: Parameter 9 | B21: =Ergebnisse!A27 -> Saccharose, wasserfrei | C21: =Ergebnisse!B27 -> g/100 g
A22: Parameter 10 | B22: =Ergebnisse!A28 -> Glucose, wasserfrei | C22: =Ergebnisse!B28 -> g/100 g
A23: Parameter 11 | B23: =Ergebnisse!A29 -> Fructose, wasserfrei | C23: =Ergebnisse!B29 -> g/100 g
A24: Parameter 12 | B24: =Ergebnisse!A30 -> Maltose, wasserfrei | C24: =Ergebnisse!B30 -> g/100 g
... A29: Parameter 17 | B29: =Ergebnisse!A35 -> Natrium | C29: =Ergebnisse!B35 -> g/100 g

Sheet Ergebnisse
A1: Ergebnisdatenblatt | E1: Kunden-Nr. | G1: ?
A2: Frikadellen - Nährwertparameter | E2: Postleitzahl | G2: ?
E3: interne Teilnahme: | G3: 1 | H3: V.1
A4: Einsendeadresse: | B4: ergebnisse@lvus.de | F4: =IF(G1="?","",IF(ISNUMBER(VALUE(G1)),"","Bitte nur Ziffern eingeben (numbers only)"))
A5: Annahmeschluss/Deadline: | E5: 46334 | F5: =IF(G2="?","",IF(ISNUMBER(VALUE(G2)),"","Bitte nur Ziffern eingeben (numbers only)"))
A7: Schreiben Sie Ihre Daten in die farblich hinterlegten Felder. Geben Sie Ihre Ergebnisse in den aufgeführten Einheiten an. Write your data into the coloured cells. Give your results in the units of column 2.
A8: Alle Gehalte sollen direkt auf die Probe bezogen werden. Gehalte zwischen 0,010 g/100 g und 10,0 g/100 g sollen möglichst mit 3 und Gehalte ab 10,0 g/100 g möglichst mit 4 gültigen (signifikanten) Ziffern angegeben werden! Gehalte unter 1 g/100 g können auch nur mit 2 signifikanten Ziffern angegeben, falls verfahrensbedingt keine 3. Ziffer möglich ist. Beispiele zur Angabe signifikanter Ziffern sind in "Hinweise1" enthalten.
A9: In einigen Fällen, z.B. bei Gehalten um 1 % oder 10 %, ist die Vorgabe gültiger Stellen schwierig: Die Ergebnisse „1,06% und 0,98% sind vergleichbar, nicht aber „1,1 %“ und „0,98%“. Die Angabe einer zusätzlichen gültigen Stelle beim Beispielwert 1,06 ist hier angebracht.
A10: Sollte ein Inhaltsstoff nicht bestimmbar sein, so teilen Sie uns bitte den Wert Ihrer Bestimmungsgrenze mit vorangestelltem "< “ mit. In cases you will not detect a parameter, report your limit of quantification with "< " in front of the value.
A11: Falls Sie einen Parameter nicht bearbeiten, lassen Sie die zugehörigen Ergebnisdatenfelder bitte leer. If you are not analysing parameters in your laboratory do not write anything into the corresponding fields for the results.
A12: Zur Beschreibung des Analysenverfahrens verwenden Sie bitte die im unteren Teil dieses Datenblatts enthaltenen Auswahlfelder. To describe your method use the Pulldown-menus following after the result area.
A13: =IF(OR(OR(G1="?",ISBLANK(G1)),OR(G2="?",ISBLANK(G2))),"Die Tabelle ist so nicht versandfertig. Es fehlen noch Eingaben bei Kunden-Nr. und/oder Postleitzahl.","Wichtig: Sind Ihre Eingaben bei Kunden-Nr. und Postleitzahl korrekt?") -> Die Tabelle ist so nicht versandfertig. Es fehlen noch Eingaben bei Kunden-Nr. und/oder Postleitzahl.
A14: =IF(OR(OR(G1="?",ISBLANK(G1)),OR(G2="?",ISBLANK(G2))),"Nur wenn diese beiden Felder korrekt ausgefüllt sind, kann der Absender dieser Tabelle identifiziert werden.","Haben Sie im Tabellenblatt Kontakt alle gelb hinterlegten Felder ausgefüllt?") -> Nur wenn diese beiden Felder korrekt ausgefüllt sind, kann der Absender dieser Tabelle identifiziert werden.
A15: Tabelle wurde bereits einmal erfolgreich gesendet, es handelt sich um eine Aktualisierung: This table was sent before, successfully. It is an update:
A17: Parameter | B17: Einheit | C17: Signifikante Stellen | D17: Analysen- gang 1 | E17: Analysen- gang 2 | F17: Verfahren / Literatur
A19: Wasser | B19: g/100 g | C19: (*) | F19: =Wasser!B1 -> 23 | H19: =Wasser!C1 -> 22
A20: Fett | B20: g/100 g | C20: (*) | F20: =Fett!$B$1 -> 32 | H20: =Fett!$C$1 -> 31
A21: gesättigte Fettsäuren | B21: g/100 g Fett | C21: (*) | F21: =Fett_gesaettigt!B1 -> 7 | H21: =Fett_gesaettigt!C1 -> 6
A22: Einfach ungesättigte Fettsäuren | B22: g/100 g Fett | C22: (*)
A23: Mehrfach ungesättige Fettsäuren | B23: g/100 g Fett | C23: (*)
A24: Eiweiß (N * 6,25) | B24: g/100 g | C24: (*) | F24: =Eiweiss!$B$1 -> 24 | H24: =Eiweiss!$C$1 -> 23
A25: Kohlenhydrate, gesamt | B25: g/100 g | C25: (*) | F25: =Kohlenhydrate!B1 -> 9 | H25: =Kohlenhydrate!$C$1 -> 8
A26: Zucker, gesamt | B26: g/100 g | C26: (*)
A27: Saccharose, wasserfrei | B27: g/100 g | C27: (*) | F27: =SacGluFruMal!$C$1 -> 16 | H27: =SacGluFruMal!$B$1 -> 15
A28: Glucose, wasserfrei | B28: g/100 g | C28: (*) | F28: =SacGluFruMal!$D$1 -> 16 | H28: =SacGluFruMal!$B$1 -> 15
A29: Fructose, wasserfrei | B29: g/100 g | C29: (*) | F29: =SacGluFruMal!$E$1 -> 16 | H29: =SacGluFruMal!$B$1 -> 15
A30: Maltose, wasserfrei | B30: g/100 g | C30: (*) | F30: =SacGluFruMal!$F$1 -> 16 | H30: =SacGluFruMal!$B$1 -> 15
A31: Lactose, wasserfrei | B31: g/100 g | C31: (*) | F31: =Lactose!$B$1 -> 27 | H31: =Lactose!C1 -> 26
A32: Stärke | B32: g/100 g | C32: (*) | F32: =Staerke!$B$1 -> 28 | H32: =Staerke!$C$1 -> 27
A33: Ballaststoffe | B33: g/100 g | C33: (*) | F33: =Ballaststoffe!B1 -> 8 | H33: =Ballaststoffe!C1 -> 7
A34: Kochsalz (über Chlorid) | B34: g/100 g | C34: (*) | F34: =Kochsalz!B1 -> 21 | H34: =Kochsalz!C1 -> 20
A35: Natrium | B35: g/100 g | C35: (*) | F35: =Natrium!B61 -> 27 | H35: =Natrium!D61 -> 26
A36: Asche | B36: g/100 g | C36: (*) | F36: =Asche!$B$1 -> 19 | G36: =Asche!B25 -> 11 | H36: =Asche!$C$1 -> 18 | I36: =Asche!C25 -> 10
C37: (*) siehe Zeile 8
A38: Beschreibung der verwendeten Analysenverfahren, Teil 1
A40: Wasser | I40: =ISBLANK(VLOOKUP(F19,Wasser!A3:C25,3)) -> TRUE
A41: =IF(F19=H19,"bitte eingeben:",IF(I78,"","Art der Modifikation:"))
A42: Fett | I42: =ISBLANK(VLOOKUP(F20,Fett!A3:C43,3)) -> TRUE
A43: =IF(F20=H20,"bitte eingeben:",IF(I42,"","Art der Modifikation:"))
A44: Fett (gesättigte Fettsäuren) | I44: =ISBLANK(VLOOKUP(F21,Fett_gesaettigt!A3:C9,3)) -> TRUE
...

Sheet Mitteilungen
A1: Nachfolgend können Sie uns ergänzende Hinweise geben oder wichtige Beobachtungen mitteilen. | H1: =COUNTA(A2:G38) -> 0

Sheet SacGluFruMal
A1: Saccharose | B1: =MAX($A$3:$A$18)-1 -> 15 | C1: 16 | D1: 16 | E1: 16 | F1: 16
A2: Methode | B2: Bezeichnung des Analysenverfahrens | C2: Saccharose | D2: Glucose | E2: Fructose | F2: Maltose
A3: 1 | B3: Enzymatisch nach r-biopharm / Roche Nr. 10 716 260 035 (Saccharose, Glucose, Fructose)
A4: 2 | B4: HPLC- oder IC-Verfahren mit RI-Detektion
A5: 3 | B5: HPLC- oder IC-Verfahren mit sonstiger Detektion
A6: 4 | B6: Megazyme Kit K-SUFRG
A7: 5 | B7: Enzymatisch nach Thermo Fisher Scientific Gallery
A8: 6 | B8: GC nach Derivatisierung
A9: 7 | B9: Ionenchromatographie - Inline Dialyse
A10: 8 | B10: § 64 LFGB Nr. L 07.00-22/1983-05 (auch kombiniert mit § 64 LFGB Nr. L07.00-25/1983-05)
A11: 9 | B11: § 64 Nr. L 48.02.07-2:1985-05
A12: 10 | B12: § 64 Nr. L 48.02.07-2:1985-05, auch modifiziert
A13: 11 | B13: Enzymatisch nach Enzytec Testkit Art. Nr. E8160 (Glucose/Fructoe) E8180 (Saccharose)
A14: 12 | B14: Enzymatisch nach Enzytec Testkit Art. Nr. E8140
... A17: 15 | B17: Sonstiges
A18: 16

Sheet Lactose
A1: Lactose | B1: 27 | C1: =MAX($A$3:$A$29)-1 -> 26
A2: Methode | B2: Bezeichnung des Analysenverfahrens | C2: Anzahl
A3: 1 | B3: § 64 LFGB Nr. 01.00-17:2016-10 (auch modifiziert)
A4: 2 | B4: Aufarbeitung nach L 07.00-17, enzymatisch nach Roche/r-biopharm 10 176 303 035 | C4: x
A5: 3 | B5: § 64 LFGB Nr. L 07.00-23
A6: 4 | B6: § 64 LFGB Nr. L 07.00-23, modifiziert | C6: x
A7: 5 | B7: § 64 LFGB Nr. L 44.00-6
A8: 6 | B8: § 64 LFGB Nr. L 44.00-6, modifiziert
A9: 7 | B9: Enzymatisch nach r-biopharm / roche 10 176 303 035 (Lac/Galac)
A10: 8 | B10: Enzymatisch nach r-biopharm 10 986 119 035
A11: 9 | B11: Enzymatisch nach SCIL 200 086
A12: 10 | B12: HPLC (diverse Detektoren)
A13: 11 | B13: Polarimetrisch nach Thieler: ZLUF 80 440-449 (1940)
A14: 12 | B14: Ionenchromatographie nach Carrez-Klärung
A15: 13 | B15: HPLC auf Kationenaustauscher mit Bleibelegung (analog 64 LFGB Nr. L 00.00-72: Bestimmung der Zuckeralkohole)
A16: 14 | B16: Hochleistungs-Anionen-Austausch Chromatographie mit gepulster amperometrischer Detektion
A17: 15 | B17: Ionenchromatographie (diverse Detektoren)
A18: 16 | B18: EnzymeFast Lactose, Firma ifp Institut für Produktqualität
... A28: 26 | B28: sonstiges
A29: 27

Sheet Eiweiss
A1: Rohprotein (N * 6,25) | B1: 24 | C1: =MAX($A$3:$A$26)-1 -> 23
A2: Methode | B2: Bezeichnung des Analysenverfahrens | C2: Anzahl
A3: 1 | B3: § 64 LFGB Nr. L 06.00-7 (Kjeldahl)
A4: 2 | B4: § 64 LFGB Nr. L 06.00-7 (Kjeldahl), modifiziert | C4: x
A5: 3 | B5: nach Kjeldahl
A6: 4 | B6: nach Dumas
A7: 5 | B7: § 64 LFGB Nr. L 01.00-10
A8: 6 | B8: § 64 LFGB Nr. L 01.00-10, modifiziert | C8: x
A9: 7 | B9: § 64 LFGB Nr. L 01.00-10/1
A10: 8 | B10: § 64 LFGB Nr. L 01.00-10/1, modifiziert | C10: x
A11: 9 | B11: § 64 LFGB Nr. L 01.00-60
A12: 10 | B12: § 64 LFGB Nr. L 01.00-60, modifiziert | C12: x
A13: 11 | B13: § 64 LFGB Nr. L 02.09-5
A14: 12 | B14: § 64 LFGB Nr. L 02.09-5, modifiziert | C14: x
A15: 13 | B15: § 64 LFGB Nr. L 05.00-15
A16: 14 | B16: § 64 LFGB Nr. L 05.00-15, modifiziert | C16: x
A17: 15 | B17: § 64 LFGB Nr. L 06.00-20 (Dumas)
A18: 16 | B18: § 64 LFGB Nr. L 06.00-20 (Dumas), modifiziert | C18: x
A19: 17 | B19: § 64 LFGB Nr. L 08.00-60
A20: 18 | B20: § 64 LFGB Nr. L 08.00-60, modifiziert | C20: x
A21: 19 | B21: § 64 LFGB Nr. L 17.00-15 (18.00-13)
A22: 20 | B22: § 64 LFGB Nr. L 17.00-15 (18.00-13), modifiziert | C22: x
A23: 21 | B23: § 64 LFGB Nr. L 52.01.09-5
A24: 22 | B24: § 64 LFGB Nr. L 52.01.09-5, modifiziert | C24: x
A25: 23 | B25: sonstiges
A26: 24

Sheet Kohlenhydrate
A1: Kohlenhydrate | B1: 9 | C1: =MAX($A$3:$A$11)-1 -> 8
A2: Methode | B2: Bezeichnung des Analysenverfahrens | C2: Anzahl
A3: 1 | B3: 100- Eiweiß-Fett-Wasser-Ballaststoffe-Asche
A4: 2 | B4: 100- Eiweiß-Fett-Wasser-Asche
A5: 3 | B5: Summe aus Stärke und Zuckern
A6: 4 | B6: Summe aus Stärke + Zucker + Dextrin
A7: 5 | B7: Luff-Schoorl nach HCl-Aufschluss
A8: 6 | B8: Bestimmung der Zucker vor und nach enzymatischem Abbau
A9: 7 | B9: Enzymatische Bestimmung der als untersucht angegebenen Zucker
A10: 8 | B10: Sonstiges
A11: 9

Sheet Zucker
A1: Zucker | C1: 2 | D1: 2 | E1: 2 | F1: 2 | G1: 2
A2: Methode | B2: Bezeichnung des Analysenverfahrens | C2: Glucose | D2: Fructose | E2: Saccharose | F2: Maltose | G2: Lactose
A3: 1 | B3: Ja/Yes
A4: 2 | B4: Nein/No
A10: Prinzip | C10: 7 | D10: 7 | E10: 7 | F10: 7 | G10: 7 | H10: 7
A11: 1 | B11: Enzymatisch | C11: Glucose | D11: Fructose | E11: Saccharose | F11: Maltose | G11: Lactose | H11: Sonstige
A12: 2 | B12: HPLC
A13: 3 | B13: Ionenchromatographisch
A14: 4 | B14: GC (nach Derivatisierung)
A15: 5 | B15: Luff-Schoorl (Summe der reduzierenden Zucker)
A16: 6 | B16: Sonstige
A17: 7
A21: Weitere Zucker | B21: 2
A22: 1 | B22: bitte eingeben
A23: 2 | B23: keine weiteren

Sheet Fett
A1: Fett | B1: 32 | C1: =MAX($A$3:$A$34)-1 -> 31
A2: Methode | B2: Bezeichnung des Analysenverfahrens | C2: Anzahl
A3: 1 | B3: § 64 LFGB Nr. L 01.00-20
A4: 2 | B4: § 64 LFGB Nr. L 01.00-20, modifiziert | C4: x
A5: 3 | B5: § 64 LFGB Nr. L 06.00-6 (07.00-6)
A6: 4 | B6: § 64 LFGB Nr. L 06.00-6, modifiziert | C6: x
A7: 5 | B7: § 64 LFGB Nr. L 08.00-60
A8: 6 | B8: § 64 LFGB Nr. L 08.00-60, modifiziert | C8: x
A9: 7 | B9: § 64 LFGB Nr. L 16.00-5
A10: 8 | B10: § 64 LFGB Nr. L 16.00-5, modifiziert | C10: x
A11: 9 | B11: § 64 LFGB Nr. L 17.00-4 (18.00-5)
A12: 10 | B12: § 64 LFGB Nr. L 17.00-4 (18.00-5), modifiziert | C12: x
A13: 11 | B13: § 64 LFGB Nr. L 20.01/02-5
A14: 12 | B14: § 64 LFGB Nr. L 20.01/02-5, modifiziert | C14: x
A15: 13 | B15: nach Caviezel
A16: 14 | B16: nach Weibull-Stoldt
A17: 15 | B17: Extraktion mit Petrolether (Methode nach Grossfeld)
A18: 16 | B18: nach Gerber
A19: 17 | B19: Extraktion aus der Trockenmasse
A20: 18 | B20: Mikrowellenextraktion
A21: 19 | B21: Schweizerisches Lebensmittelbuch Kapitel 11/5.7
A22: 20 | B22: NMR
A23: 21 | B23: Bestimmung aus der Trockenmasse, ohne Säureaufschluss, Extraktion mit Soxtherm
A24: 22 | B24: Butyrometer-Methode
A25: 23 | B25: Mikromethode nach E. Schulte DLR 3/21 S. 85-89
A26: 24 | B26: Fosslet
... A33: 31 | B33: Sonstiges
A34: 32

Sheet Fett_gesaettigt
A1: Fett, gesäätigt | B1: 7 | C1: =MAX(A3:A9)-1 -> 6
A2: Methode | B2: Bezeichnung des Analysenverfahrens | C2: Anzahl
A3: 1 | B3: aus der Fettsäureverteilung
A4: 2 | B4: § 64 LFGB Nr. 13.00-27/2 2018-06
A5: 3 | B5: EN ISO 12966
A6: 4 | B6: DGF-Einheitsmedthode C-VI 11d (19)
A7: 5 | B7: DGF Methode C-VI 11e und C-VI 10a
A8: 6 | B8: Sonstiges
A9: 7

Sheet Ballaststoffe
A1: Ballaststoffe | B1: 8 | C1: =MAX($A$3:$A$10)-1 -> 7
A2: Methode | B2: Bezeichnung des Analysenverfahrens | C2: Anzahl
A3: 1 | B3: § 64 LFGB Nr. L 00.00-18
A4: 2 | B4: § 64 LFGB Nr. L 00.00-18, modifiziert | C4: x
A5: 3 | B5: Bioquant Gesamtballaststoffe, Fa. Merck
A6: 4 | B6: AOAC Methode 985.26 (auch modifiziert)
A7: 5 | B7: AOAC Methode 991.43 (auch modifiziert)
A8: 6 | B8: Schweizerisches Lebensmittelbuch (SLMB) 371.1, März 1994
A9: 7 | B9: Sonstiges
A10: 8

Sheet Kochsalz
A1: Kochsalz | B1: 21 | C1: =MAX($A$3:$A$23)-1 -> 20
A2: Methode | B2: Bezeichnung des Analysenverfahrens | C2: Anzahl
A3: 1 | B3: § 64 LFGB Nr. L 03.00-11: 2007-12 (DIN EN ISO 5943), auch modifiziert | C3: x
A4: 2 | B4: § 64 LFGB Nr. L 04.00-10, auch modifiziert | C4: x
A5: 3 | B5: § 64 LFGB Nr. L 05.02-2, auch modifiziert | C5: x
A6: 4 | B6: § 64 LFGB Nr. L 07.00-5/1: 2010-01 (potentiometrisch), auch modifiziert | C6: x
A7: 5 | B7: § 64 LFGB Nr. L 07.00-5/2: 2010-01 (nach Volhard), auch modifiziert | C7: x
A8: 6 | B8: § 64 LFGB Nr. L 13.05-4 (potentiometrisch), auch modifiziert | C8: x
A9: 7 | B9: § 64 LFGB Nr. L 17.00-6: 1988-12, auch modifiziert | C9: x
A10: 8 | B10: § 64 LFGB Nr. L 26.11.03-2: 1983-05, auch modifiziert | C10: x
A11: 9 | B11: Potentiometrisch (auch aus der Asche) durch Titration mit Silbernitrat
A12: 10 | B12: Nach Mohr
A13: 11 | B13: Nach Vollhard
A14: 12 | B14: Ionenchromatographisch (auch aus der Asche)
A15: 13 | B15: Potentiometrisch (auch aus der Asche) durch Titration mit Quecksilbernitrat
A16: 14 | B16: Schweizerisches Lebensmittelbuch Kapitel 11/5.6.1
A17: 15 | B17: Extraktion mit siedendem Wasser, Titration nach Ansäuern mit 0,05mol/L Hg(NO3)2; Indikator: Diphenylcarbazon/Bromphenolblau
A18: 16 | B18: SLMB Methode Nr. 322.1
A19: 17 | B19: Potentiometrisch nach Heißwasserextraktion und Eiweißfällung
A20: 18 | B20: ÖNORM N 4003 (potentiometrisch nach Heißwasserextraktion und Eiweißfällung)
A21: 19 | B21: Photometrisch, Aquakem
A22: 20 | B22: Sonstiges
A23: 21

Sheet Wasser
A1: Wasser | B1: 23 | C1: =MAX($A$3:$A$25)-1 -> 22
A2: Methode | B2: Bezeichnung des Analysenverfahrens | C2: Modifikation
A3: 1 | B3: § 64 LFGB Nr. L 06.00-3, auch modifiziert | C3: x
A4: 2 | B4: Trocknung bei 103 °C ± 2 °C
A5: 3 | B5: Trocknung bei 103 °C ± 2 °C mit Seesand
A6: 4 | B6: § 64 LFGB Nr. L 01.00-27, auch modifiziert | C6: x
A7: 5 | B7: § 64 LFGB Nr. L 02.06-1, auch modifiziert | C7: x
A8: 6 | B8: § 64 LFGB Nr. L 02.06-2, auch modifiziert | C8: x
A9: 7 | B9: § 64 LFGB Nr. L 02.09-4, auch modifiziert | C9: x
A10: 8 | B10: § 64 LFGB Nr. L 03.00-9, auch modifiziert | C10: x
A11: 9 | B11: § 64 LFGB Nr. L 04.00-8, auch modifiziert | C11: x
A12: 10 | B12: § 64 LFGB Nr. L 08.00-60, auch modifiziert | C12: x
A13: 11 | B13: § 64 LFGB Nr. L 16.01-1, auch modifiziert | C13: x
A14: 12 | B14: § 64 LFGB Nr. L 17.00-1 (18.00-12), auch modifiziert | C14: x
A15: 13 | B15: § 64 LFGB Nr. L 18.00-12:1988-12, auch modifizert | C15: x
A16: 14 | B16: § 64 LFGB Nr. L 18.00-23, auch modifiziert | C16: x
A17: 15 | B17: § 64 LFGB Nr. L 20.01/02, auch modifiziert | C17: x
... A19: 17 | B19: § 64 LFGB Nr. L 46.02-1, auch modifiziert | C19: x
A20: 18 | B20: SMART Trac II, gemäß AOAC Official Method 2008.06 8947
A21: 19 | B21: Vakuumtrocknung gemäß Meth. 2 Anlage II zur Richtlinie 79/796 EWG (26.07.79)
A22: 20 | B22: Trockenschrank 130 °C +/- 3 °C
A23: 21 | B23: Leco-TGA
A24: 22 | B24: Sonstiges
A25: 23

Sheet Natrium
A1: Elemente | B1: Na | D1: Na
A2: Probeneinwaage | B2: 8 | D2: =MAX(A3:A10)-1 -> 7
A3: 1 | B3: < 0,5 g
A4: 2 | B4: 0,5 g - 1,0 g
A5: 3 | B5: 1,0 g - 1,5 g
A6: 4 | B6: 1,5 g - 2,5 g
A7: 5 | B7: 2,5 g - 5,0 g
A8: 6 | B8: 5,0 g - 10,0 g
A9: 7 | B9: > 10,0 g
A10: 8
A13: Aufschluss | B13: 13 | D13: =MAX(A14:A26)-1 -> 12
A14: 1 | B14: Mikrowellendruckaufschluss
A15: 2 | B15: Druckaufschluss
A16: 3 | B16: Trockenveraschung bei 500 bis 540 °C
A17: 4 | B17: Trockenveraschung bei 540 °C bis 560 °C
A18: 5 | B18: Trockenveraschung bei 560 °C bis 600 °C
A19: 6 | B19: Trockenveraschung bei über 600 °C
A20: 7 | B20: Nassaufschluss
A21: 8 | B21: Verbrennen
A22: 9 | B22: Plasmaaufschluss
A23: 10 | B23: wässrige Extraktion
A24: 11 | B24: Trockenveraschung bei 450 bis 500 °C
A25: 12 | B25: Sonstiger Aufschluss
A26: 13
A29: Säuren | B29: 8 | D29: =MAX(A30:A37)-1 -> 7
A30: 1 | B30: HCl
A31: 2 | B31: HNO3
A32: 3 | B32: H2SO4
A33: 4 | B33: Königswasser
A34: 5 | B34: HNO3 + HCl
A35: 6 | B35: HNO3 + H2SO4
A36: 7 | B36: Sonstige Säure
A37: 8
A40: Oxidationsmittel | B40: 4 | D40: =MAX(A41:A44)-1 -> 3
A41: 1 | B41: H2O2
A42: 2 | B42: entfällt
A43: 3 | B43: Sonstiges Oxidationsmittel
A44: 4
A47: Messverfahren | B47: 11 | D47: =MAX(A48:A58)-1 -> 10
A48: 1 | B48: Flammen-AAS
...

Sheet Asche
A1: Asche | B1: 19 | C1: =MAX($A$3:$A$21)-1 -> 18
A2: Methode | B2: Bezeichnung des Analysenverfahrens | C2: Anzahl
A3: 1 | B3: § 64 LFGB Nr. L 01.00-77
A4: 2 | B4: § 64 LFGB Nr. L 01.00-77, modifiziert | C4: 1
A5: 3 | B5: § 64 LFGB Nr. L 06.00-4
A6: 4 | B6: § 64 LFGB Nr. L 06.00-4, modifiziert | C6: 1
A7: 5 | B7: § 64 LFGB Nr. L 16.01-2
A8: 6 | B8: § 64 LFGB Nr. L 16.01-2, modifiziert | C8: 1
A9: 7 | B9: § 64 LFGB Nr. L 17.00-3 (18.00-4)
A10: 8 | B10: § 64 LFGB Nr. L 17.00-3 (18.00-4), modifiziert | C10: 1
A11: 9 | B11: § 64 LFGB Nr. L 31.00-4
A12: 10 | B12: § 64 LFGB Nr. L 31.00-4, modifiziert | C12: 1
A13: 11 | B13: § 64 LFGB Nr. L 47.00-3
A14: 12 | B14: § 64 LFGB Nr. L 47.00-3, modifiziert | C14: 1
A15: 13 | B15: § 64 LFGB Nr. L 53.00-4
A16: 14 | B16: § 64 LFGB Nr. L 53.00-4, modifiziert | C16: 1
A17: 15 | B17: VDLUFA C 10.2
A18: 16 | B18: Veraschung bei der angegebenen Temperatur | C18: 2
A19: 17 | B19: Leco TGA
A20: 18 | B20: sonstiges
A21: 19
A25: Veraschungstemperatur | B25: 11 | C25: =MAX($A$26:$A$36)-1 -> 10
A26: 1 | B26: < 525 °C
A27: 2 | B27: 525 °C - 575 °C
A28: 3 | B28: 575 °C - 625 °C
A29: 4 | B29: 625 °C - 675 °C
A30: 5 | B30: 675 °C - 725 °C
A31: 6 | B31: 725 °C - 775 °C
A32: 7 | B32: 775 °C - 825 °C
A33: 8 | B33: 825 °C - 875 °C
A34: 9 | B34: 875 °C - 925 °C
A35: 10 | B35: > 925 °C
A36: 11

Sheet Staerke
A1: Staerke | B1: 28 | C1: =MAX($A$3:$A$49)-1 -> 27
A2: Methode | B2: Bezeichnung des Analysenverfahrens | C2: Anzahl
A3: 1 | B3: § 64 LFGB Nr. L 17.00-5 (18.00-6) | D3: P
A4: 2 | B4: § 64 LFGB Nr. L 17.00-5 (18.00-6), modifiziert | C4: x | D4: P
A5: 3 | B5: Enzymatisch nach r-biopharm / Roche Nr. 10 207 748 035 | D5: E
A6: 4 | B6: VDLUFA III 7.2.1 | D6: P
A7: 5 | B7: Polarimetrisch | D7: P
A8: 6 | B8: VO (EWG) Nr. 4154/87 (enzymatisch) | D8: E
A9: 7 | B9: § 64 LFGB Nr. L 48.02.07-3
A10: 8 | B10: § 64 LFGB Nr. L 48.02.07-3, modifiziert | C10: x
A11: 9 | B11: Schweizerisches Lebensmittelbuch Methode Nr. 467.1 (enzymatisch) | D11: E
A12: 10 | B12: HPLC-RI-Detektion nach saurer und enzymatischer Hydrolyse | D12: E
A13: 11 | B13: AOAC 996.11
A14: 12 | B14: HPLC-RI-Detektion nach enzymatischer Hydrolyse mit thermostabil alpha-Amylase und Amyloglucosidase | D14: E
A15: 13 | B15: Polarimetrische Bestimmung des Stärkegehaltes aus Matissek, Schnepel, Steiner S. 157 ff. | D15: P
A16: 14 | B16: VO (EG) Nr. 900/2008
A17: 15 | B17: VO (EG) Nr. 118/2010 | D17: E | F17: HPLC-Bestimmung
A18: 16 | B18: Enzymatische Hydrolyse mit anschließender Ionenchromatographie mit amperometrischer Detektion
A19: 17 | B19: Salzsäureaufschluss, enzymatische Glucose Bestimmung, Umrechnung auf Stärke vgl. § 64 LFGB Nr. L 07.00-33 | D19: Enzymatisch nach saurer Hydrolyse | G19: Gesamtglucane
A20: 18 | B20: § 64 LFGB Nr. L 07.00-21 | D20: Reduktometrisch nach saurer Hydrolyse | F20: Gesamtkohlenhydrate, reduktometrisch
A21: 19 | B21: § 64 LFGB Nr. L 07.00-21, modifiziert | C21: x | D21: Reduktometrisch nach saurer Hydrolyse | F21: Gesamtkohlenhydrate, reduktometrisch
A22: 20 | B22: § 64 LFGB Nr. L 07.00-25 | D22: E
A23: 21 | B23: § 64 LFGB Nr. L 07.00-25, modifiziert | C23: x | D23: E
A24: 22 | B24: Enzymatisch nach Megazyme | D24: E
A25: 23 | B25: § 64 L 07.00-33:1987-05 | D25: Enzymatisch nach saurer Hydrolyse | G25: Gesamtglucane
A26: 24 | B26: § 64 L 07.00-33:1987-05, modifiziert | C26: x | D26: Enzymatisch nach saurer Hydrolyse | G26: Gesamtglucane
A27: 25 | B27: Enzytec Testkit Art. Nr. E1268
A28: 26 | B28: Enzymatisch (Enzytec E8140) nach Aufschluss mit Alpha-Amylase & Amyloglucosidase
A29: 27 | B29: Sonstiges
A30: 28
A42: Stärke, Untersuchungsprinzip | B42: 9 | C42: =MAX($A$3:$A$11)-1 -> 8
A43: Prinzip | B43: Bezeichnung des Analysenverfahrens | C43: Anzahl
A44: 1 | B44: Enzymatisch | D44: Stärke
A45: 2 | B45: Reduktometrisch | D45: Gesamtkohlenhydrate, reduktometrisch
A46: 3 | B46: Enzymatisch nach saurer Hydrolyse | D46: Glucane
A47: 4 | B47: Reduktometrisch nach enzymatischer Hydrolyse | D47: Gesamtkohlenhydrate, reduktometrisch
A48: 5 | B48: Polarimetrisch | C48: x | D48: Gesamtkohlenhydrate, polarimetrisch
A49: 6 | B49: Nachweis mit Iod/Iodkalium-Lösung (Lugol) | D49: qualitativ
A50: 7 | B50: Reduktometrisch nach saurer Hydrolyse | D50: Gesamtkohlenhydrate, reduktometrisch
A51: 8 | B51: Sonstiges
...
